Package: recoup Version: 1.37.1 Command: /Library/Frameworks/R.framework/Resources/bin/R CMD check --install=check:recoup.install-out.txt --library=/Library/Frameworks/R.framework/Resources/library --no-vignettes --timings recoup_1.37.1.tar.gz StartedAt: 2025-10-05 21:17:51 -0400 (Sun, 05 Oct 2025) EndedAt: 2025-10-05 21:20:36 -0400 (Sun, 05 Oct 2025) EllapsedTime: 164.9 seconds RetCode: 0 Status: OK CheckDir: recoup.Rcheck Warnings: 0