Package: recoup Version: 1.37.1 Maintainer: Panagiotis Moulos MaintainerEmail: moulos at fleming.gr git_url: https://git.bioconductor.org/packages/recoup git_branch: devel git_last_commit: 8a07c44 git_last_commit_date: 2025-07-23 16:19:41 -0400 (Wed, 23 Jul 2025)