Package: recountmethylation Version: 1.19.0 Command: /home/biocbuild/R/R/bin/R CMD INSTALL recountmethylation StartedAt: 2025-07-21 21:13:12 -0000 (Mon, 21 Jul 2025) EndedAt: 2025-07-21 21:13:15 -0000 (Mon, 21 Jul 2025) EllapsedTime: 3.1 seconds RetCode: 0 Status: OK