Package: recountmethylation Version: 1.19.0 Command: F:\biocbuild\bbs-3.22-bioc\R\bin\R.exe CMD INSTALL recountmethylation StartedAt: 2025-07-20 16:57:57 -0400 (Sun, 20 Jul 2025) EndedAt: 2025-07-20 16:58:56 -0400 (Sun, 20 Jul 2025) EllapsedTime: 58.9 seconds RetCode: 0 Status: OK