Package: recountmethylation Version: 1.19.0 Command: F:\biocbuild\bbs-3.22-bioc\R\bin\R.exe CMD check --no-multiarch --install=check:recountmethylation.install-out.txt --library=F:\biocbuild\bbs-3.22-bioc\R\library --no-vignettes --timings recountmethylation_1.19.0.tar.gz StartedAt: 2025-07-22 05:48:18 -0400 (Tue, 22 Jul 2025) EndedAt: 2025-07-22 05:50:07 -0400 (Tue, 22 Jul 2025) EllapsedTime: 109.0 seconds RetCode: 0 Status: OK CheckDir: recountmethylation.Rcheck Warnings: 0