Package: recountmethylation Version: 1.19.0 Command: rm -rf recountmethylation.buildbin-libdir && mkdir recountmethylation.buildbin-libdir && F:\biocbuild\bbs-3.22-bioc\R\bin\R.exe CMD INSTALL --build --library=recountmethylation.buildbin-libdir recountmethylation_1.19.0.tar.gz StartedAt: 2025-07-21 09:50:27 -0400 (Mon, 21 Jul 2025) EndedAt: 2025-07-21 09:53:29 -0400 (Mon, 21 Jul 2025) EllapsedTime: 181.8 seconds RetCode: 0 Status: OK PackageFile: recountmethylation_1.19.0.zip PackageFileSize: 4.642 MiB