Package: recountmethylation Version: 1.19.0 Command: /home/biocbuild/bbs-3.22-bioc/R/bin/R CMD INSTALL recountmethylation StartedAt: 2025-07-04 15:39:55 -0400 (Fri, 04 Jul 2025) EndedAt: 2025-07-04 15:39:57 -0400 (Fri, 04 Jul 2025) EllapsedTime: 2.4 seconds RetCode: 0 Status: OK