Package: recountmethylation Version: 1.19.0 Command: /home/biocbuild/bbs-3.22-bioc/R/bin/R CMD build --keep-empty-dirs --no-resave-data --md5 recountmethylation StartedAt: 2025-07-04 18:43:59 -0400 (Fri, 04 Jul 2025) EndedAt: 2025-07-04 18:45:42 -0400 (Fri, 04 Jul 2025) EllapsedTime: 103.1 seconds RetCode: 0 Status: OK PackageFile: recountmethylation_1.19.0.tar.gz PackageFileSize: 4.826 MiB