Package: recount3 Version: 1.19.2 Command: F:\biocbuild\bbs-3.22-bioc\R\bin\R.exe CMD INSTALL recount3 StartedAt: 2025-07-24 16:36:04 -0400 (Thu, 24 Jul 2025) EndedAt: 2025-07-24 16:36:47 -0400 (Thu, 24 Jul 2025) EllapsedTime: 42.9 seconds RetCode: 0 Status: OK