Package: recount Version: 1.37.0 Command: /home/biocbuild/bbs-3.23-bioc/R/bin/R CMD check --install=check:recount.install-out.txt --library=/home/biocbuild/bbs-3.23-bioc/R/site-library --timings recount_1.37.0.tar.gz StartedAt: 2025-11-15 03:12:31 -0500 (Sat, 15 Nov 2025) EndedAt: 2025-11-15 03:27:47 -0500 (Sat, 15 Nov 2025) EllapsedTime: 916.6 seconds RetCode: 0 Status: OK CheckDir: recount.Rcheck Warnings: 0