Package: recount Version: 1.37.0 Command: /Library/Frameworks/R.framework/Resources/bin/R CMD check --install=check:recount.install-out.txt --library=/Library/Frameworks/R.framework/Resources/library --no-vignettes --timings recount_1.37.0.tar.gz StartedAt: 2025-11-21 23:32:53 -0500 (Fri, 21 Nov 2025) EndedAt: 2025-11-21 23:42:29 -0500 (Fri, 21 Nov 2025) EllapsedTime: 576.4 seconds RetCode: 0 Status: OK CheckDir: recount.Rcheck Warnings: 0