Package: recount Version: 1.37.0 Command: /Library/Frameworks/R.framework/Resources/bin/R CMD build --keep-empty-dirs --no-resave-data recount StartedAt: 2025-11-21 18:21:36 -0500 (Fri, 21 Nov 2025) EndedAt: 2025-11-21 18:30:09 -0500 (Fri, 21 Nov 2025) EllapsedTime: 513.1 seconds RetCode: 0 Status: OK PackageFile: recount_1.37.0.tar.gz PackageFileSize: 7.492 MiB