Package: recount Version: 1.37.0 Command: rm -rf recount.buildbin-libdir && mkdir recount.buildbin-libdir && /Users/biocbuild/BBS/utils/build-universal.sh recount_1.37.0.tar.gz /Library/Frameworks/R.framework/Resources/bin/R recount.buildbin-libdir StartedAt: 2025-11-22 01:52:24 -0500 (Sat, 22 Nov 2025) EndedAt: 2025-11-22 01:54:06 -0500 (Sat, 22 Nov 2025) EllapsedTime: 101.3 seconds RetCode: 0 Status: OK PackageFile: recount_1.37.0.tgz PackageFileSize: 7.874 MiB