Package: reconsi Version: 1.21.0 Command: /home/biocbuild/R/R/bin/R CMD build --keep-empty-dirs --no-resave-data reconsi StartedAt: 2025-10-07 02:12:31 -0000 (Tue, 07 Oct 2025) EndedAt: 2025-10-07 02:14:17 -0000 (Tue, 07 Oct 2025) EllapsedTime: 106.0 seconds RetCode: 0 Status: OK PackageFile: reconsi_1.21.0.tar.gz PackageFileSize: 95.49 KiB