Package: reconsi Version: 1.21.0 Command: F:\biocbuild\bbs-3.22-bioc\R\bin\R.exe CMD INSTALL reconsi StartedAt: 2025-08-14 15:53:02 -0400 (Thu, 14 Aug 2025) EndedAt: 2025-08-14 15:53:34 -0400 (Thu, 14 Aug 2025) EllapsedTime: 31.9 seconds RetCode: 0 Status: OK