Package: receptLoss Version: 1.21.0 Command: /home/biocbuild/R/R/bin/R CMD INSTALL receptLoss StartedAt: 2025-07-10 21:40:10 -0000 (Thu, 10 Jul 2025) EndedAt: 2025-07-10 21:40:37 -0000 (Thu, 10 Jul 2025) EllapsedTime: 27.5 seconds RetCode: 0 Status: OK