Package: rebook Version: 1.19.0 Command: /home/biocbuild/R/R/bin/R CMD build --keep-empty-dirs --no-resave-data rebook StartedAt: 2025-10-03 02:30:16 -0000 (Fri, 03 Oct 2025) EndedAt: 2025-10-03 02:30:45 -0000 (Fri, 03 Oct 2025) EllapsedTime: 29.0 seconds RetCode: 0 Status: OK PackageFile: rebook_1.19.0.tar.gz PackageFileSize: 288.4 KiB