Package: rebook Version: 1.19.0 Command: /Library/Frameworks/R.framework/Resources/bin/R CMD check --install=check:rebook.install-out.txt --library=/Library/Frameworks/R.framework/Resources/library --no-vignettes --timings rebook_1.19.0.tar.gz StartedAt: 2025-07-01 23:02:44 -0400 (Tue, 01 Jul 2025) EndedAt: 2025-07-01 23:05:11 -0400 (Tue, 01 Jul 2025) EllapsedTime: 146.8 seconds RetCode: 0 Status: WARNINGS CheckDir: rebook.Rcheck Warnings: 2