Package: rebook Version: 1.19.0 Command: /Library/Frameworks/R.framework/Resources/bin/R CMD build --keep-empty-dirs --no-resave-data rebook StartedAt: 2025-07-01 18:15:02 -0400 (Tue, 01 Jul 2025) EndedAt: 2025-07-01 18:15:27 -0400 (Tue, 01 Jul 2025) EllapsedTime: 25.1 seconds RetCode: 0 Status: OK PackageFile: rebook_1.19.0.tar.gz PackageFileSize: 262.6 KiB