Package: rebook Version: 1.19.0 Command: rm -rf rebook.buildbin-libdir && mkdir rebook.buildbin-libdir && /Users/biocbuild/BBS/utils/build-universal.sh rebook_1.19.0.tar.gz /Library/Frameworks/R.framework/Resources/bin/R rebook.buildbin-libdir StartedAt: 2025-07-02 01:14:35 -0400 (Wed, 02 Jul 2025) EndedAt: 2025-07-02 01:14:44 -0400 (Wed, 02 Jul 2025) EllapsedTime: 9.3 seconds RetCode: 0 Status: OK PackageFile: rebook_1.19.0.tgz PackageFileSize: 328.6 KiB