Package: rawrr Version: 1.17.13 Command: /home/biocbuild/R/R/bin/R CMD INSTALL rawrr StartedAt: 2025-10-02 20:17:14 -0000 (Thu, 02 Oct 2025) EndedAt: 2025-10-02 20:17:22 -0000 (Thu, 02 Oct 2025) EllapsedTime: 7.5 seconds RetCode: 0 Status: OK