Package: rawrr Version: 1.17.13 Command: /home/biocbuild/bbs-3.22-bioc/R/bin/R CMD INSTALL rawrr StartedAt: 2025-10-03 15:01:35 -0400 (Fri, 03 Oct 2025) EndedAt: 2025-10-03 15:01:38 -0400 (Fri, 03 Oct 2025) EllapsedTime: 3.3 seconds RetCode: 0 Status: OK