Package: rawrr Version: 1.17.13 Command: /home/biocbuild/bbs-3.22-bioc/R/bin/R CMD build --keep-empty-dirs --no-resave-data --md5 rawrr StartedAt: 2025-10-05 19:34:25 -0400 (Sun, 05 Oct 2025) EndedAt: 2025-10-05 19:35:27 -0400 (Sun, 05 Oct 2025) EllapsedTime: 62.1 seconds RetCode: 0 Status: OK PackageFile: rawrr_1.17.13.tar.gz PackageFileSize: 2.307 MiB