Package: rawrr Version: 1.17.13 Command: /Library/Frameworks/R.framework/Resources/bin/R CMD INSTALL rawrr StartedAt: 2025-10-03 15:01:40 -0400 (Fri, 03 Oct 2025) EndedAt: 2025-10-03 15:01:41 -0400 (Fri, 03 Oct 2025) EllapsedTime: 0.9 seconds RetCode: 0 Status: OK