Package: rawrr Version: 1.17.13 Command: /Library/Frameworks/R.framework/Resources/bin/R CMD check --install=check:rawrr.install-out.txt --library=/Library/Frameworks/R.framework/Resources/library --no-vignettes --timings rawrr_1.17.13.tar.gz StartedAt: 2025-10-03 21:11:56 -0400 (Fri, 03 Oct 2025) EndedAt: 2025-10-03 21:13:04 -0400 (Fri, 03 Oct 2025) EllapsedTime: 68.0 seconds RetCode: 0 Status: OK CheckDir: rawrr.Rcheck Warnings: 0