Package: rawrr Version: 1.17.13 Command: rm -rf rawrr.buildbin-libdir && mkdir rawrr.buildbin-libdir && /Users/biocbuild/BBS/utils/build-universal.sh rawrr_1.17.13.tar.gz /Library/Frameworks/R.framework/Resources/bin/R rawrr.buildbin-libdir StartedAt: 2025-10-05 22:55:15 -0400 (Sun, 05 Oct 2025) EndedAt: 2025-10-05 22:55:17 -0400 (Sun, 05 Oct 2025) EllapsedTime: 2.0 seconds RetCode: 0 Status: OK PackageFile: rawrr_1.17.13.tgz PackageFileSize: 2.038 MiB