Package: rawDiag Version: 1.5.2 Command: /home/biocbuild/R/R/bin/R CMD build --keep-empty-dirs --no-resave-data rawDiag StartedAt: 2025-07-25 03:04:22 -0000 (Fri, 25 Jul 2025) EndedAt: 2025-07-25 03:04:32 -0000 (Fri, 25 Jul 2025) EllapsedTime: 10.0 seconds RetCode: 1 Status: ERROR PackageFile: None PackageFileSize: NA