Package: rawDiag Version: 1.5.2 Command: chmod a+r rawDiag -R && F:\biocbuild\bbs-3.22-bioc\R\bin\R.exe CMD build --keep-empty-dirs --no-resave-data rawDiag StartedAt: 2025-07-22 21:29:29 -0400 (Tue, 22 Jul 2025) EndedAt: 2025-07-22 21:32:31 -0400 (Tue, 22 Jul 2025) EllapsedTime: 182.7 seconds RetCode: 0 Status: OK PackageFile: rawDiag_1.5.2.tar.gz PackageFileSize: 943 KiB