Package: rawDiag Version: 1.5.2 Command: rm -rf rawDiag.buildbin-libdir && mkdir rawDiag.buildbin-libdir && F:\biocbuild\bbs-3.22-bioc\R\bin\R.exe CMD INSTALL --build --library=rawDiag.buildbin-libdir rawDiag_1.5.2.tar.gz StartedAt: 2025-07-23 09:53:25 -0400 (Wed, 23 Jul 2025) EndedAt: 2025-07-23 09:53:47 -0400 (Wed, 23 Jul 2025) EllapsedTime: 21.8 seconds RetCode: 0 Status: OK PackageFile: rawDiag_1.5.2.zip PackageFileSize: 963.7 KiB