Package: rawDiag Version: 1.5.2 Command: /Library/Frameworks/R.framework/Resources/bin/R CMD build --keep-empty-dirs --no-resave-data rawDiag StartedAt: 2025-07-11 18:08:47 -0400 (Fri, 11 Jul 2025) EndedAt: 2025-07-11 18:10:15 -0400 (Fri, 11 Jul 2025) EllapsedTime: 88.0 seconds RetCode: 0 Status: OK PackageFile: rawDiag_1.5.2.tar.gz PackageFileSize: 2.07 MiB