Package: rawDiag Version: 1.5.2 Command: rm -rf rawDiag.buildbin-libdir && mkdir rawDiag.buildbin-libdir && /Users/biocbuild/BBS/utils/build-universal.sh rawDiag_1.5.2.tar.gz /Library/Frameworks/R.framework/Resources/bin/R rawDiag.buildbin-libdir StartedAt: 2025-07-12 01:13:25 -0400 (Sat, 12 Jul 2025) EndedAt: 2025-07-12 01:13:38 -0400 (Sat, 12 Jul 2025) EllapsedTime: 12.8 seconds RetCode: 0 Status: OK PackageFile: rawDiag_1.5.2.tgz PackageFileSize: 2.088 MiB