Package: rawDiag Version: 1.5.2 Command: /Library/Frameworks/R.framework/Resources/bin/R CMD INSTALL rawDiag StartedAt: 2025-07-14 15:05:17 -0400 (Mon, 14 Jul 2025) EndedAt: 2025-07-14 15:05:19 -0400 (Mon, 14 Jul 2025) EllapsedTime: 2.1 seconds RetCode: 0 Status: OK