Package: rawDiag Version: 1.5.2 Command: /Library/Frameworks/R.framework/Resources/bin/R CMD check --install=check:rawDiag.install-out.txt --library=/Library/Frameworks/R.framework/Resources/library --no-vignettes --timings rawDiag_1.5.2.tar.gz StartedAt: 2025-07-14 20:54:31 -0400 (Mon, 14 Jul 2025) EndedAt: 2025-07-14 20:56:05 -0400 (Mon, 14 Jul 2025) EllapsedTime: 94.4 seconds RetCode: 0 Status: OK CheckDir: rawDiag.Rcheck Warnings: 0