Package: rawDiag Version: 1.5.2 Command: /Library/Frameworks/R.framework/Resources/bin/R CMD build --keep-empty-dirs --no-resave-data rawDiag StartedAt: 2025-07-14 17:18:28 -0400 (Mon, 14 Jul 2025) EndedAt: 2025-07-14 17:19:23 -0400 (Mon, 14 Jul 2025) EllapsedTime: 54.7 seconds RetCode: 0 Status: OK PackageFile: rawDiag_1.5.2.tar.gz PackageFileSize: 2.068 MiB