Package: rawDiag Version: 1.5.2 Command: rm -rf rawDiag.buildbin-libdir && mkdir rawDiag.buildbin-libdir && /Users/biocbuild/BBS/utils/build-universal.sh rawDiag_1.5.2.tar.gz /Library/Frameworks/R.framework/Resources/bin/R rawDiag.buildbin-libdir StartedAt: 2025-07-14 22:30:46 -0400 (Mon, 14 Jul 2025) EndedAt: 2025-07-14 22:30:49 -0400 (Mon, 14 Jul 2025) EllapsedTime: 3.0 seconds RetCode: 0 Status: OK PackageFile: rawDiag_1.5.2.tgz PackageFileSize: 2.088 MiB