Package: randRotation Version: 1.21.0 Command: F:\biocbuild\bbs-3.22-bioc\R\bin\R.exe CMD INSTALL randRotation StartedAt: 2025-06-30 15:24:46 -0400 (Mon, 30 Jun 2025) EndedAt: 2025-06-30 15:25:21 -0400 (Mon, 30 Jun 2025) EllapsedTime: 34.9 seconds RetCode: 0 Status: OK