Package: randRotation Version: 1.21.0 Command: F:\biocbuild\bbs-3.22-bioc\R\bin\R.exe CMD check --no-multiarch --install=check:randRotation.install-out.txt --library=F:\biocbuild\bbs-3.22-bioc\R\library --no-vignettes --timings randRotation_1.21.0.tar.gz StartedAt: 2025-06-30 05:20:25 -0400 (Mon, 30 Jun 2025) EndedAt: 2025-06-30 05:21:35 -0400 (Mon, 30 Jun 2025) EllapsedTime: 69.8 seconds RetCode: 0 Status: OK CheckDir: randRotation.Rcheck Warnings: 0