Package: randPack Version: 1.55.0 Command: /home/biocbuild/R/R/bin/R CMD build --keep-empty-dirs --no-resave-data randPack StartedAt: 2025-07-25 03:04:01 -0000 (Fri, 25 Jul 2025) EndedAt: 2025-07-25 03:04:10 -0000 (Fri, 25 Jul 2025) EllapsedTime: 9.0 seconds RetCode: 0 Status: OK PackageFile: randPack_1.55.0.tar.gz PackageFileSize: 244.5 KiB