Package: randPack Version: 1.55.0 Command: /home/biocbuild/bbs-3.22-bioc/R/bin/R CMD INSTALL randPack StartedAt: 2025-06-26 15:57:09 -0400 (Thu, 26 Jun 2025) EndedAt: 2025-06-26 15:57:13 -0400 (Thu, 26 Jun 2025) EllapsedTime: 4.3 seconds RetCode: 0 Status: OK