Package: randPack Version: 1.55.0 Command: /Library/Frameworks/R.framework/Resources/bin/R CMD check --install=check:randPack.install-out.txt --library=/Library/Frameworks/R.framework/Resources/library --no-vignettes --timings randPack_1.55.0.tar.gz StartedAt: 2025-07-11 20:54:57 -0400 (Fri, 11 Jul 2025) EndedAt: 2025-07-11 20:55:12 -0400 (Fri, 11 Jul 2025) EllapsedTime: 14.2 seconds RetCode: 0 Status: OK CheckDir: randPack.Rcheck Warnings: 0