Package: ramwas Version: 1.33.0 Command: /home/biocbuild/R/R/bin/R CMD INSTALL ramwas StartedAt: 2025-07-24 21:36:28 -0000 (Thu, 24 Jul 2025) EndedAt: 2025-07-24 21:37:12 -0000 (Thu, 24 Jul 2025) EllapsedTime: 44.7 seconds RetCode: 0 Status: OK