Package: ramwas Version: 1.33.0 Command: /home/biocbuild/R/R/bin/R CMD build --keep-empty-dirs --no-resave-data ramwas StartedAt: 2025-07-25 03:03:43 -0000 (Fri, 25 Jul 2025) EndedAt: 2025-07-25 03:08:34 -0000 (Fri, 25 Jul 2025) EllapsedTime: 291.4 seconds RetCode: 0 Status: OK PackageFile: ramwas_1.33.0.tar.gz PackageFileSize: 2.505 MiB