Package: ramwas Version: 1.33.0 Command: chmod a+r ramwas -R && F:\biocbuild\bbs-3.22-bioc\R\bin\R.exe CMD build --keep-empty-dirs --no-resave-data ramwas StartedAt: 2025-07-24 21:40:17 -0400 (Thu, 24 Jul 2025) EndedAt: 2025-07-24 21:47:35 -0400 (Thu, 24 Jul 2025) EllapsedTime: 438.0 seconds RetCode: 0 Status: OK PackageFile: ramwas_1.33.0.tar.gz PackageFileSize: 2.077 MiB