Package: ramwas Version: 1.33.0 Command: /home/biocbuild/bbs-3.22-bioc/R/bin/R CMD INSTALL ramwas StartedAt: 2025-07-11 15:30:27 -0400 (Fri, 11 Jul 2025) EndedAt: 2025-07-11 15:31:02 -0400 (Fri, 11 Jul 2025) EllapsedTime: 35.3 seconds RetCode: 0 Status: OK