Package: ramwas Version: 1.33.0 Command: /home/biocbuild/bbs-3.22-bioc/R/bin/R CMD check --install=check:ramwas.install-out.txt --library=/home/biocbuild/bbs-3.22-bioc/R/site-library --timings ramwas_1.33.0.tar.gz StartedAt: 2025-07-12 01:30:48 -0400 (Sat, 12 Jul 2025) EndedAt: 2025-07-12 01:39:15 -0400 (Sat, 12 Jul 2025) EllapsedTime: 506.7 seconds RetCode: 0 Status: OK CheckDir: ramwas.Rcheck Warnings: 0