Package: ramwas Version: 1.33.0 Command: /Library/Frameworks/R.framework/Resources/bin/R CMD INSTALL ramwas StartedAt: 2025-07-22 15:17:35 -0400 (Tue, 22 Jul 2025) EndedAt: 2025-07-22 15:17:49 -0400 (Tue, 22 Jul 2025) EllapsedTime: 13.5 seconds RetCode: 0 Status: OK