Package: ramwas Version: 1.33.0 Command: /Library/Frameworks/R.framework/Resources/bin/R CMD build --keep-empty-dirs --no-resave-data ramwas StartedAt: 2025-07-22 17:17:57 -0400 (Tue, 22 Jul 2025) EndedAt: 2025-07-22 17:19:49 -0400 (Tue, 22 Jul 2025) EllapsedTime: 112.3 seconds RetCode: 0 Status: OK PackageFile: ramwas_1.33.0.tar.gz PackageFileSize: 3.239 MiB