Package: rain Version: 1.43.0 Command: rm -rf rain.buildbin-libdir && mkdir rain.buildbin-libdir && F:\biocbuild\bbs-3.22-bioc\R\bin\R.exe CMD INSTALL --build --library=rain.buildbin-libdir rain_1.43.0.tar.gz StartedAt: 2025-08-15 11:02:38 -0400 (Fri, 15 Aug 2025) EndedAt: 2025-08-15 11:03:01 -0400 (Fri, 15 Aug 2025) EllapsedTime: 22.2 seconds RetCode: 0 Status: OK PackageFile: rain_1.43.0.zip PackageFileSize: 635.7 KiB