Package: raer Version: 1.7.1 Command: rm -rf raer.buildbin-libdir && mkdir raer.buildbin-libdir && F:\biocbuild\bbs-3.22-bioc\R\bin\R.exe CMD INSTALL --build --library=raer.buildbin-libdir raer_1.7.1.tar.gz StartedAt: 2025-07-21 09:47:29 -0400 (Mon, 21 Jul 2025) EndedAt: 2025-07-21 09:48:48 -0400 (Mon, 21 Jul 2025) EllapsedTime: 79.5 seconds RetCode: 0 Status: OK PackageFile: raer_1.7.1.zip PackageFileSize: 6.736 MiB