Package: rWikiPathways Version: 1.29.0 Command: /home/biocbuild/R/R/bin/R CMD build --keep-empty-dirs --no-resave-data rWikiPathways StartedAt: 2025-07-22 02:29:39 -0000 (Tue, 22 Jul 2025) EndedAt: 2025-07-22 02:29:56 -0000 (Tue, 22 Jul 2025) EllapsedTime: 17.0 seconds RetCode: 0 Status: OK PackageFile: rWikiPathways_1.29.0.tar.gz PackageFileSize: 10.64 MiB